BEGIN:VCALENDAR
VERSION:2.0
PRODID:-//pretix//pretix.eu//
BEGIN:VTIMEZONE
TZID:Europe/Berlin
BEGIN:STANDARD
DTSTART:20001029T040000
RRULE:FREQ=YEARLY;BYDAY=-1SU;BYMONTH=10
TZNAME:CET
TZOFFSETFROM:+0200
TZOFFSETTO:+0100
END:STANDARD
BEGIN:DAYLIGHT
DTSTART:20000326T030000
RRULE:FREQ=YEARLY;BYDAY=-1SU;BYMONTH=3
TZNAME:CEST
TZOFFSETFROM:+0100
TZOFFSETTO:+0200
END:DAYLIGHT
END:VTIMEZONE
BEGIN:VEVENT
UID:pretix-mb-9qn8g-4893787@events.fairetickets.de
DTSTART;TZID=Europe/Berlin:20260814T203000
DTEND;TZID=Europe/Berlin:20260814T213000
DESCRIPTION:Tickets: https://events.fairetickets.de/9qn8g/4893787/\nEinlass
 : 14.08.2026 19:00\nVeranstalter: Faire Tickets
DTSTAMP:20260426T031016Z
LOCATION:„Bluadmond“ -Ein Stück mit Biss (Freiluftbühne/Kirchstraße 
 Hohenwarth)
SUMMARY:„Bluadmond“ - Ein Stück mit Biss (Freiluftbühne/Kirchstraße 
 Hohenwarth)
END:VEVENT
END:VCALENDAR
