BEGIN:VCALENDAR
VERSION:2.0
PRODID:-//pretix//pretix.eu//
BEGIN:VTIMEZONE
TZID:Europe/Berlin
BEGIN:STANDARD
DTSTART:20001029T040000
RRULE:FREQ=YEARLY;BYDAY=-1SU;BYMONTH=10
TZNAME:CET
TZOFFSETFROM:+0200
TZOFFSETTO:+0100
END:STANDARD
BEGIN:DAYLIGHT
DTSTART:20000326T030000
RRULE:FREQ=YEARLY;BYDAY=-1SU;BYMONTH=3
TZNAME:CEST
TZOFFSETFROM:+0100
TZOFFSETTO:+0200
END:DAYLIGHT
END:VTIMEZONE
BEGIN:VEVENT
UID:pretix-mb-cy9xx-4514738@events.fairetickets.de
DTSTART;TZID=Europe/Berlin:20250719T180000
DTEND;TZID=Europe/Berlin:20250719T190000
DESCRIPTION:Tickets: https://events.fairetickets.de/cy9xx/4514738/\nVeranst
 alter: Faire Tickets
DTSTAMP:20260419T195008Z
LOCATION:Kirche St. Peter und Paul\, Am Kirchplatz 10\, 82340 Feldafing
SUMMARY:3. Konzert
END:VEVENT
END:VCALENDAR
