BEGIN:VCALENDAR
VERSION:2.0
PRODID:-//pretix//pretix.eu//
BEGIN:VTIMEZONE
TZID:Europe/Berlin
BEGIN:STANDARD
DTSTART:20001029T040000
RRULE:FREQ=YEARLY;BYDAY=-1SU;BYMONTH=10
TZNAME:CET
TZOFFSETFROM:+0200
TZOFFSETTO:+0100
END:STANDARD
BEGIN:DAYLIGHT
DTSTART:20000326T030000
RRULE:FREQ=YEARLY;BYDAY=-1SU;BYMONTH=3
TZNAME:CEST
TZOFFSETFROM:+0100
TZOFFSETTO:+0200
END:DAYLIGHT
END:VTIMEZONE
BEGIN:VEVENT
UID:pretix-mb-lcvee-0@events.fairetickets.de
DTSTART;TZID=Europe/Berlin:20260425T200000
DTEND;TZID=Europe/Berlin:20260425T210000
DESCRIPTION:Tickets: https://events.fairetickets.de/lcvee/\nEinlass: 25.04.
 2026 19:00\nVeranstalter: Faire Tickets
DTSTAMP:20260420T171907Z
LOCATION:Gemeindezentrum\, Alpenstr. 10\, 86868 Mittelneufnach
SUMMARY:40. Kulturnacht – Full House Blues Gang\, Programm: Let the Good 
 Times Roll (Gemeindezentrum Mittelneufnach)
END:VEVENT
END:VCALENDAR
