BEGIN:VCALENDAR
VERSION:2.0
PRODID:-//pretix//pretix.eu//
BEGIN:VTIMEZONE
TZID:Europe/Berlin
BEGIN:STANDARD
DTSTART:20001029T040000
RRULE:FREQ=YEARLY;BYDAY=-1SU;BYMONTH=10
TZNAME:CET
TZOFFSETFROM:+0200
TZOFFSETTO:+0100
END:STANDARD
BEGIN:DAYLIGHT
DTSTART:20000326T030000
RRULE:FREQ=YEARLY;BYDAY=-1SU;BYMONTH=3
TZNAME:CEST
TZOFFSETFROM:+0100
TZOFFSETTO:+0200
END:DAYLIGHT
END:VTIMEZONE
BEGIN:VEVENT
UID:pretix-mb-q897g-0@events.fairetickets.de
DTSTART;TZID=Europe/Berlin:20260919T200000
DTEND;TZID=Europe/Berlin:20260919T210000
DESCRIPTION:Tickets: https://events.fairetickets.de/q897g/\nEinlass: 19.09.
 2026 19:00\nVeranstalter: Faire Tickets
DTSTAMP:20260424T033735Z
LOCATION:Kultursaal\, Bahnhofstraße 9\, 91315 Höchstadt a.d. Aisch
SUMMARY:BOUNCE - die BON JOVI Tribute Band (Kultursaal Höchstadt a.d. Aisc
 h)
END:VEVENT
END:VCALENDAR
